BEGIN:VCALENDAR
VERSION:2.0
PRODID:-//hacksw/handcal//NONSGML v1.0//EN
BEGIN:VEVENT
SUMMARY:Sortie hebdomadaire 1
UID:7f61a977-3aa8-40e6-9ede-218cdb3e2b32
DTSTART:20260406T063000Z
DTEND:20260406T110000Z
LOCATION:Localisation   
CATEGORIES:Sportif
STATUS:
DESCRIPTION:<p>Randonnee au depart de Sault</p>
URL;VALUE=URI:https://bauduenveloloisir.sportsregions.fr/evenements/2026/04/06/sortie-hebdomadaire-1-2436381
END:VEVENT
END:VCALENDAR
