BEGIN:VCALENDAR
VERSION:2.0
PRODID:-//hacksw/handcal//NONSGML v1.0//EN
BEGIN:VEVENT
SUMMARY:Sortie hebdomadaire 1
UID:b8d1ce71-1cb7-4365-b468-6069916fce49
DTSTART:20260412T220000Z
DTEND:20260413T220000Z
LOCATION:Localisation Parking La Colle 83630 Bauduen
CATEGORIES:Sportif
STATUS:
DESCRIPTION:<p>TOUR DU LAC</p>
 
 <p>70 KM   950
 M</p>
 
 <p>Bauduen-Les
 Salles-Moustiers-Roumoules-Plateau-Bauduen</p>
 
 <p>www.komoot.com/tour/2856520679</p>
URL;VALUE=URI:https://bauduenveloloisir.sportsregions.fr/evenements/2026/04/13/sortie-hebdomadaire-1-2436383
END:VEVENT
END:VCALENDAR
