BEGIN:VCALENDAR
VERSION:2.0
PRODID:-//hacksw/handcal//NONSGML v1.0//EN
BEGIN:VEVENT
SUMMARY:Sortie hebdomadaire 2
UID:7d7b17c3-091f-4c46-afa5-e68675f5c1f7
DTSTART:20260420T113000Z
DTEND:20260420T144500Z
LOCATION:Localisation Parking La Colle 83690 AUPS
CATEGORIES:Sportif
STATUS:
DESCRIPTION:<p> </p>
 
 <p>74 km    960
 m</p>
 
 <p>Aups-Regusse-Montmeyan-Tavernes Varages-Brue Auriac-Barjols
 Fox-Aups</p>
 
 <p>www.komoot.com/tour/1083132759</p>
URL;VALUE=URI:https://bauduenveloloisir.sportsregions.fr/evenements/2026/04/20/sortie-hebdomadaire-2-2436414
END:VEVENT
END:VCALENDAR
