BEGIN:VCALENDAR
VERSION:2.0
PRODID:-//hacksw/handcal//NONSGML v1.0//EN
BEGIN:VEVENT
SUMMARY:Sortie hebdomadaire 3
UID:86ea4d31-5730-47a4-a77c-21ce268d53b7
DTSTART:20260427T113000Z
DTEND:20260427T150000Z
LOCATION:Localisation Parking Gare routiere 83690 SALERNES
CATEGORIES:Sportif
STATUS:
DESCRIPTION:<p> </p>
 
 <p>70 km   1 000
 m</p>
 
 <p>Salernes-EV8-Flayosc-Ampus-Verignon-La Bigue-
 Aups-Salernes</p>
 
 <p>https://www.komoot.com/tour/2625264067/</p>
URL;VALUE=URI:https://bauduenveloloisir.sportsregions.fr/evenements/2026/04/27/sortie-hebdomadaire-3-2436448
END:VEVENT
END:VCALENDAR
