BEGIN:VCALENDAR
VERSION:2.0
PRODID:-//hacksw/handcal//NONSGML v1.0//EN
BEGIN:VEVENT
SUMMARY:Sortie hebdomadaire 3
UID:226dba45-c4f2-4526-8012-ad20b9a57b60
DTSTART:20260518T113000Z
DTEND:20260518T144500Z
LOCATION:Localisation Parking Gare routiere 83690 SALERNES
CATEGORIES:Sportif
STATUS:
DESCRIPTION:<p>70 KM    1 000
 M</p>
 
 <p>Salernes-EV8-Flayosc-Ampus-Verignon-La Bigue-
 Aups-Salernes</p>
 
 <p>https://www.komoot.com/tour/2625264067/</p>
URL;VALUE=URI:https://bauduenveloloisir.sportsregions.fr/evenements/2026/05/18/sortie-hebdomadaire-3-2436415
END:VEVENT
END:VCALENDAR
